BEGIN:VCALENDAR
VERSION:2.0
PRODID:-//Greater Ann Arbor Area Overeaters Anonymous - ECPv6.15.18//NONSGML v1.0//EN
CALSCALE:GREGORIAN
METHOD:PUBLISH
X-WR-CALNAME:Greater Ann Arbor Area Overeaters Anonymous
X-ORIGINAL-URL:https://www.a2oa.org
X-WR-CALDESC:Events for Greater Ann Arbor Area Overeaters Anonymous
REFRESH-INTERVAL;VALUE=DURATION:PT1H
X-Robots-Tag:noindex
X-PUBLISHED-TTL:PT1H
BEGIN:VTIMEZONE
TZID:America/Detroit
BEGIN:DAYLIGHT
TZOFFSETFROM:-0500
TZOFFSETTO:-0400
TZNAME:EDT
DTSTART:20250309T070000
END:DAYLIGHT
BEGIN:STANDARD
TZOFFSETFROM:-0400
TZOFFSETTO:-0500
TZNAME:EST
DTSTART:20251102T060000
END:STANDARD
BEGIN:DAYLIGHT
TZOFFSETFROM:-0500
TZOFFSETTO:-0400
TZNAME:EDT
DTSTART:20260308T070000
END:DAYLIGHT
BEGIN:STANDARD
TZOFFSETFROM:-0400
TZOFFSETTO:-0500
TZNAME:EST
DTSTART:20261101T060000
END:STANDARD
BEGIN:DAYLIGHT
TZOFFSETFROM:-0500
TZOFFSETTO:-0400
TZNAME:EDT
DTSTART:20270314T070000
END:DAYLIGHT
BEGIN:STANDARD
TZOFFSETFROM:-0400
TZOFFSETTO:-0500
TZNAME:EST
DTSTART:20271107T060000
END:STANDARD
END:VTIMEZONE
BEGIN:VEVENT
DTSTART;TZID=America/Detroit:20260420T133000
DTEND;TZID=America/Detroit:20260420T133000
DTSTAMP:20260420T025756
CREATED:20250206T013509Z
LAST-MODIFIED:20250206T014400Z
UID:10022674-1776691800-1776691800@www.a2oa.org
SUMMARY:Monday Adrian Literature Study **HYBRID Meeting**
DESCRIPTION:
URL:https://www.a2oa.org/event/monday-adrian-literature-study/2026-04-20/
LOCATION:Serenity House\, 600 Gulf Street\, Adrian\, MI\, 49221
CATEGORIES:Meetings
END:VEVENT
BEGIN:VEVENT
DTSTART;TZID=America/Detroit:20260420T180000
DTEND;TZID=America/Detroit:20260420T180000
DTSTAMP:20260420T025756
CREATED:20221208T212552Z
LAST-MODIFIED:20240103T221718Z
UID:10019637-1776708000-1776708000@www.a2oa.org
SUMMARY:Jackson Monday
DESCRIPTION:Special topic: Literature
URL:https://www.a2oa.org/event/jackson-monday/2026-04-20/
LOCATION:Cornerstone Christian Church\, 2395 W High\, Jackson\, MI\, 49203
CATEGORIES:Meetings
END:VEVENT
BEGIN:VEVENT
DTSTART;TZID=America/Detroit:20260420T183000
DTEND;TZID=America/Detroit:20260420T193000
DTSTAMP:20260420T025756
CREATED:20251205T215929Z
LAST-MODIFIED:20251205T215929Z
UID:10025437-1776709800-1776713400@www.a2oa.org
SUMMARY:Ann Arbor Literature Study
DESCRIPTION:
URL:https://www.a2oa.org/event/ann-arbor-literature-study-3/2026-04-20/
LOCATION:Church of the Good Shepherd\, 2145 Independence Boulevard\, Ann Arbor\, MI\, 48104\, United States
CATEGORIES:Meetings
GEO:42.2535923;-83.7156279
X-APPLE-STRUCTURED-LOCATION;VALUE=URI;X-ADDRESS=Church of the Good Shepherd 2145 Independence Boulevard Ann Arbor MI 48104 United States;X-APPLE-RADIUS=500;X-TITLE=2145 Independence Boulevard:geo:-83.7156279,42.2535923
END:VEVENT
BEGIN:VEVENT
DTSTART;TZID=America/Detroit:20260420T200000
DTEND;TZID=America/Detroit:20260420T210000
DTSTAMP:20260420T025756
CREATED:20230315T204523Z
LAST-MODIFIED:20240112T032502Z
UID:10017587-1776715200-1776718800@www.a2oa.org
SUMMARY:Intergroup Business Meeting - All are welcome
DESCRIPTION:Ann Arbor Area Intergroup meetings take place the third Monday of the month unless otherwise notified by the Intergroup Chair\, VP or Secretary. These are BUSINESS meetings and open to all OA members. We look forward to having a representative from every meeting taking place within our Intergroup area at these meetings and welcome your service. ALL are welcome to attend — this is ALWAYS an open business meeting. \nWe meet via Zoom\, online or via your phone: \nJoin Zoom Meeting\nhttps://us02web.zoom.us/j/85137662057?pwd=cVlLMEJYMmlDZm13QUg3amFBMFVKUT09\nMeeting ID: 851 3766 2057\nPasscode: 123123\nOne tap mobile\n+13126266799\,\,85137662057#\,\,\,\,*123123# US (Chicago)\n+19294362866\,\,85137662057#\,\,\,\,*123123# US (New York)Any of the following phone numbers will work in our timezone/area:\n+1 312 626 6799 US (Chicago)\n+1 929 436 2866 US (New York)\n+1 301 715 8592 US (Washington D.C)Meeting ID: 851 3766 2057\nPasscode: 123123\nFind your local number: https://us02web.zoom.us/u/kcvNIN9L6p
URL:https://www.a2oa.org/event/intergroup-business-meeting/2026-04-20/
LOCATION:Virtual Meeting
CATEGORIES:Meetings
ORGANIZER;CN="Intergroup":MAILTO:greatera2ig@gmail.com
END:VEVENT
BEGIN:VEVENT
DTSTART;TZID=America/Detroit:20260420T200000
DTEND;TZID=America/Detroit:20260420T210000
DTSTAMP:20260420T025756
CREATED:20251208T192956Z
LAST-MODIFIED:20251208T192956Z
UID:10026866-1776715200-1776718800@www.a2oa.org
SUMMARY:Intergroup Monthly Monday
DESCRIPTION:Let’s learn together\, build fellowship & service\, & support all our recovery from compulsive overeating and food addiction. \nFor the Zoom Link\, drop a note to dr_marcy@hotmail.com.
URL:https://www.a2oa.org/event/intergroup-monthly-monday-2/2026-04-20/
LOCATION:MI
CATEGORIES:Meetings
END:VEVENT
BEGIN:VEVENT
DTSTART;TZID=America/Detroit:20260420T200000
DTEND;TZID=America/Detroit:20260420T210000
DTSTAMP:20260420T025756
CREATED:20260323T190718Z
LAST-MODIFIED:20260323T190929Z
UID:10025109-1776715200-1776718800@www.a2oa.org
SUMMARY:Intergroup Monthly Monday
DESCRIPTION:“Accountability” \nThis month our focus will be on tools and practices used to make and keep personal recovery a priority with suggestions to help get started\, to continue the journey and to get re-energized for continued recovery. \nFor the Zoom Link\, drop a note to dr_marcy@hotmail.com. \nDownload the flyer
URL:https://www.a2oa.org/event/intergroup-monthly-monday-april-20/
LOCATION:MI
CATEGORIES:Meetings
END:VEVENT
END:VCALENDAR