BEGIN:VCALENDAR
VERSION:2.0
PRODID:-//Greater Ann Arbor Area Overeaters Anonymous - ECPv6.15.18//NONSGML v1.0//EN
CALSCALE:GREGORIAN
METHOD:PUBLISH
X-WR-CALNAME:Greater Ann Arbor Area Overeaters Anonymous
X-ORIGINAL-URL:https://www.a2oa.org
X-WR-CALDESC:Events for Greater Ann Arbor Area Overeaters Anonymous
REFRESH-INTERVAL;VALUE=DURATION:PT1H
X-Robots-Tag:noindex
X-PUBLISHED-TTL:PT1H
BEGIN:VTIMEZONE
TZID:America/Detroit
BEGIN:DAYLIGHT
TZOFFSETFROM:-0500
TZOFFSETTO:-0400
TZNAME:EDT
DTSTART:20250309T070000
END:DAYLIGHT
BEGIN:STANDARD
TZOFFSETFROM:-0400
TZOFFSETTO:-0500
TZNAME:EST
DTSTART:20251102T060000
END:STANDARD
BEGIN:DAYLIGHT
TZOFFSETFROM:-0500
TZOFFSETTO:-0400
TZNAME:EDT
DTSTART:20260308T070000
END:DAYLIGHT
BEGIN:STANDARD
TZOFFSETFROM:-0400
TZOFFSETTO:-0500
TZNAME:EST
DTSTART:20261101T060000
END:STANDARD
BEGIN:DAYLIGHT
TZOFFSETFROM:-0500
TZOFFSETTO:-0400
TZNAME:EDT
DTSTART:20270314T070000
END:DAYLIGHT
BEGIN:STANDARD
TZOFFSETFROM:-0400
TZOFFSETTO:-0500
TZNAME:EST
DTSTART:20271107T060000
END:STANDARD
END:VTIMEZONE
BEGIN:VEVENT
DTSTART;TZID=America/Detroit:20260627T123000
DTEND;TZID=America/Detroit:20260627T180000
DTSTAMP:20260421T075008
CREATED:20260323T191742Z
LAST-MODIFIED:20260323T191805Z
UID:10026728-1782563400-1782583200@www.a2oa.org
SUMMARY:Summer Retreat
DESCRIPTION:Sunlight of the Spirit\n\n\n\nWarm Connections to Help Recover from Compulsive Eating \n\n\n\nJoin us for a day of connection\, inspiration\, enlightenment and growth in OA! \n\n\n\n\nDownload the flyer
URL:https://www.a2oa.org/event/summer-retreat-2026/
LOCATION:Michigan Friends Center\, 7748 Clark Lake Road\, Chelsea\, MI\, 48118
CATEGORIES:Special Events
END:VEVENT
END:VCALENDAR