BEGIN:VCALENDAR
VERSION:2.0
PRODID:-//Greater Ann Arbor Area Overeaters Anonymous - ECPv6.15.18//NONSGML v1.0//EN
CALSCALE:GREGORIAN
METHOD:PUBLISH
X-ORIGINAL-URL:https://www.a2oa.org
X-WR-CALDESC:Events for Greater Ann Arbor Area Overeaters Anonymous
REFRESH-INTERVAL;VALUE=DURATION:PT1H
X-Robots-Tag:noindex
X-PUBLISHED-TTL:PT1H
BEGIN:VTIMEZONE
TZID:America/Detroit
BEGIN:DAYLIGHT
TZOFFSETFROM:-0500
TZOFFSETTO:-0400
TZNAME:EDT
DTSTART:20260308T070000
END:DAYLIGHT
BEGIN:STANDARD
TZOFFSETFROM:-0400
TZOFFSETTO:-0500
TZNAME:EST
DTSTART:20261101T060000
END:STANDARD
BEGIN:DAYLIGHT
TZOFFSETFROM:-0500
TZOFFSETTO:-0400
TZNAME:EDT
DTSTART:20270314T070000
END:DAYLIGHT
BEGIN:STANDARD
TZOFFSETFROM:-0400
TZOFFSETTO:-0500
TZNAME:EST
DTSTART:20271107T060000
END:STANDARD
BEGIN:DAYLIGHT
TZOFFSETFROM:-0500
TZOFFSETTO:-0400
TZNAME:EDT
DTSTART:20280312T070000
END:DAYLIGHT
BEGIN:STANDARD
TZOFFSETFROM:-0400
TZOFFSETTO:-0500
TZNAME:EST
DTSTART:20281105T060000
END:STANDARD
END:VTIMEZONE
BEGIN:VEVENT
DTSTART;TZID=America/Detroit:20270129T173000
DTEND;TZID=America/Detroit:20270129T183000
DTSTAMP:20260421T081025
CREATED:20240709T235825Z
LAST-MODIFIED:20240709T235825Z
UID:10021029-1801243800-1801247400@www.a2oa.org
SUMMARY:Meditation Circle
DESCRIPTION:Download the meeting format PDF
URL:https://www.a2oa.org/event/meditation-circle/2027-01-29/
LOCATION:Friends Meeting House\, 1420 Hill St.\, Ann Arbor\, MI\, 48104
CATEGORIES:Meetings
END:VEVENT
BEGIN:VEVENT
DTSTART;TZID=America/Detroit:20270205T173000
DTEND;TZID=America/Detroit:20270205T183000
DTSTAMP:20260421T081025
CREATED:20240709T235825Z
LAST-MODIFIED:20240709T235825Z
UID:10021030-1801848600-1801852200@www.a2oa.org
SUMMARY:Meditation Circle
DESCRIPTION:Download the meeting format PDF
URL:https://www.a2oa.org/event/meditation-circle/2027-02-05/
LOCATION:Friends Meeting House\, 1420 Hill St.\, Ann Arbor\, MI\, 48104
CATEGORIES:Meetings
END:VEVENT
BEGIN:VEVENT
DTSTART;TZID=America/Detroit:20270212T173000
DTEND;TZID=America/Detroit:20270212T183000
DTSTAMP:20260421T081025
CREATED:20240709T235825Z
LAST-MODIFIED:20240709T235825Z
UID:10021031-1802453400-1802457000@www.a2oa.org
SUMMARY:Meditation Circle
DESCRIPTION:Download the meeting format PDF
URL:https://www.a2oa.org/event/meditation-circle/2027-02-12/
LOCATION:Friends Meeting House\, 1420 Hill St.\, Ann Arbor\, MI\, 48104
CATEGORIES:Meetings
END:VEVENT
BEGIN:VEVENT
DTSTART;TZID=America/Detroit:20270219T173000
DTEND;TZID=America/Detroit:20270219T183000
DTSTAMP:20260421T081025
CREATED:20240709T235825Z
LAST-MODIFIED:20240709T235825Z
UID:10021032-1803058200-1803061800@www.a2oa.org
SUMMARY:Meditation Circle
DESCRIPTION:Download the meeting format PDF
URL:https://www.a2oa.org/event/meditation-circle/2027-02-19/
LOCATION:Friends Meeting House\, 1420 Hill St.\, Ann Arbor\, MI\, 48104
CATEGORIES:Meetings
END:VEVENT
BEGIN:VEVENT
DTSTART;TZID=America/Detroit:20270226T173000
DTEND;TZID=America/Detroit:20270226T183000
DTSTAMP:20260421T081025
CREATED:20240709T235825Z
LAST-MODIFIED:20240709T235825Z
UID:10021033-1803663000-1803666600@www.a2oa.org
SUMMARY:Meditation Circle
DESCRIPTION:Download the meeting format PDF
URL:https://www.a2oa.org/event/meditation-circle/2027-02-26/
LOCATION:Friends Meeting House\, 1420 Hill St.\, Ann Arbor\, MI\, 48104
CATEGORIES:Meetings
END:VEVENT
BEGIN:VEVENT
DTSTART;TZID=America/Detroit:20270305T173000
DTEND;TZID=America/Detroit:20270305T183000
DTSTAMP:20260421T081025
CREATED:20240709T235825Z
LAST-MODIFIED:20240709T235825Z
UID:10021034-1804267800-1804271400@www.a2oa.org
SUMMARY:Meditation Circle
DESCRIPTION:Download the meeting format PDF
URL:https://www.a2oa.org/event/meditation-circle/2027-03-05/
LOCATION:Friends Meeting House\, 1420 Hill St.\, Ann Arbor\, MI\, 48104
CATEGORIES:Meetings
END:VEVENT
BEGIN:VEVENT
DTSTART;TZID=America/Detroit:20270312T173000
DTEND;TZID=America/Detroit:20270312T183000
DTSTAMP:20260421T081025
CREATED:20240709T235825Z
LAST-MODIFIED:20240709T235825Z
UID:10021035-1804872600-1804876200@www.a2oa.org
SUMMARY:Meditation Circle
DESCRIPTION:Download the meeting format PDF
URL:https://www.a2oa.org/event/meditation-circle/2027-03-12/
LOCATION:Friends Meeting House\, 1420 Hill St.\, Ann Arbor\, MI\, 48104
CATEGORIES:Meetings
END:VEVENT
BEGIN:VEVENT
DTSTART;TZID=America/Detroit:20270319T173000
DTEND;TZID=America/Detroit:20270319T183000
DTSTAMP:20260421T081025
CREATED:20240709T235825Z
LAST-MODIFIED:20240709T235825Z
UID:10021036-1805477400-1805481000@www.a2oa.org
SUMMARY:Meditation Circle
DESCRIPTION:Download the meeting format PDF
URL:https://www.a2oa.org/event/meditation-circle/2027-03-19/
LOCATION:Friends Meeting House\, 1420 Hill St.\, Ann Arbor\, MI\, 48104
CATEGORIES:Meetings
END:VEVENT
BEGIN:VEVENT
DTSTART;TZID=America/Detroit:20270326T173000
DTEND;TZID=America/Detroit:20270326T183000
DTSTAMP:20260421T081025
CREATED:20240709T235825Z
LAST-MODIFIED:20240709T235825Z
UID:10021037-1806082200-1806085800@www.a2oa.org
SUMMARY:Meditation Circle
DESCRIPTION:Download the meeting format PDF
URL:https://www.a2oa.org/event/meditation-circle/2027-03-26/
LOCATION:Friends Meeting House\, 1420 Hill St.\, Ann Arbor\, MI\, 48104
CATEGORIES:Meetings
END:VEVENT
BEGIN:VEVENT
DTSTART;TZID=America/Detroit:20270402T173000
DTEND;TZID=America/Detroit:20270402T183000
DTSTAMP:20260421T081025
CREATED:20240709T235825Z
LAST-MODIFIED:20240709T235825Z
UID:10021038-1806687000-1806690600@www.a2oa.org
SUMMARY:Meditation Circle
DESCRIPTION:Download the meeting format PDF
URL:https://www.a2oa.org/event/meditation-circle/2027-04-02/
LOCATION:Friends Meeting House\, 1420 Hill St.\, Ann Arbor\, MI\, 48104
CATEGORIES:Meetings
END:VEVENT
BEGIN:VEVENT
DTSTART;TZID=America/Detroit:20270409T173000
DTEND;TZID=America/Detroit:20270409T183000
DTSTAMP:20260421T081025
CREATED:20240709T235825Z
LAST-MODIFIED:20240709T235825Z
UID:10021039-1807291800-1807295400@www.a2oa.org
SUMMARY:Meditation Circle
DESCRIPTION:Download the meeting format PDF
URL:https://www.a2oa.org/event/meditation-circle/2027-04-09/
LOCATION:Friends Meeting House\, 1420 Hill St.\, Ann Arbor\, MI\, 48104
CATEGORIES:Meetings
END:VEVENT
BEGIN:VEVENT
DTSTART;TZID=America/Detroit:20270416T173000
DTEND;TZID=America/Detroit:20270416T183000
DTSTAMP:20260421T081025
CREATED:20240709T235825Z
LAST-MODIFIED:20240709T235825Z
UID:10021040-1807896600-1807900200@www.a2oa.org
SUMMARY:Meditation Circle
DESCRIPTION:Download the meeting format PDF
URL:https://www.a2oa.org/event/meditation-circle/2027-04-16/
LOCATION:Friends Meeting House\, 1420 Hill St.\, Ann Arbor\, MI\, 48104
CATEGORIES:Meetings
END:VEVENT
BEGIN:VEVENT
DTSTART;TZID=America/Detroit:20270423T173000
DTEND;TZID=America/Detroit:20270423T183000
DTSTAMP:20260421T081025
CREATED:20240709T235825Z
LAST-MODIFIED:20240709T235825Z
UID:10021041-1808501400-1808505000@www.a2oa.org
SUMMARY:Meditation Circle
DESCRIPTION:Download the meeting format PDF
URL:https://www.a2oa.org/event/meditation-circle/2027-04-23/
LOCATION:Friends Meeting House\, 1420 Hill St.\, Ann Arbor\, MI\, 48104
CATEGORIES:Meetings
END:VEVENT
BEGIN:VEVENT
DTSTART;TZID=America/Detroit:20270430T173000
DTEND;TZID=America/Detroit:20270430T183000
DTSTAMP:20260421T081025
CREATED:20240709T235825Z
LAST-MODIFIED:20240709T235825Z
UID:10021042-1809106200-1809109800@www.a2oa.org
SUMMARY:Meditation Circle
DESCRIPTION:Download the meeting format PDF
URL:https://www.a2oa.org/event/meditation-circle/2027-04-30/
LOCATION:Friends Meeting House\, 1420 Hill St.\, Ann Arbor\, MI\, 48104
CATEGORIES:Meetings
END:VEVENT
BEGIN:VEVENT
DTSTART;TZID=America/Detroit:20270507T173000
DTEND;TZID=America/Detroit:20270507T183000
DTSTAMP:20260421T081025
CREATED:20240709T235825Z
LAST-MODIFIED:20240709T235825Z
UID:10021043-1809711000-1809714600@www.a2oa.org
SUMMARY:Meditation Circle
DESCRIPTION:Download the meeting format PDF
URL:https://www.a2oa.org/event/meditation-circle/2027-05-07/
LOCATION:Friends Meeting House\, 1420 Hill St.\, Ann Arbor\, MI\, 48104
CATEGORIES:Meetings
END:VEVENT
BEGIN:VEVENT
DTSTART;TZID=America/Detroit:20270514T173000
DTEND;TZID=America/Detroit:20270514T183000
DTSTAMP:20260421T081025
CREATED:20240709T235825Z
LAST-MODIFIED:20240709T235825Z
UID:10021044-1810315800-1810319400@www.a2oa.org
SUMMARY:Meditation Circle
DESCRIPTION:Download the meeting format PDF
URL:https://www.a2oa.org/event/meditation-circle/2027-05-14/
LOCATION:Friends Meeting House\, 1420 Hill St.\, Ann Arbor\, MI\, 48104
CATEGORIES:Meetings
END:VEVENT
BEGIN:VEVENT
DTSTART;TZID=America/Detroit:20270521T173000
DTEND;TZID=America/Detroit:20270521T183000
DTSTAMP:20260421T081025
CREATED:20240709T235825Z
LAST-MODIFIED:20240709T235825Z
UID:10021045-1810920600-1810924200@www.a2oa.org
SUMMARY:Meditation Circle
DESCRIPTION:Download the meeting format PDF
URL:https://www.a2oa.org/event/meditation-circle/2027-05-21/
LOCATION:Friends Meeting House\, 1420 Hill St.\, Ann Arbor\, MI\, 48104
CATEGORIES:Meetings
END:VEVENT
BEGIN:VEVENT
DTSTART;TZID=America/Detroit:20270528T173000
DTEND;TZID=America/Detroit:20270528T183000
DTSTAMP:20260421T081025
CREATED:20240709T235825Z
LAST-MODIFIED:20240709T235825Z
UID:10021046-1811525400-1811529000@www.a2oa.org
SUMMARY:Meditation Circle
DESCRIPTION:Download the meeting format PDF
URL:https://www.a2oa.org/event/meditation-circle/2027-05-28/
LOCATION:Friends Meeting House\, 1420 Hill St.\, Ann Arbor\, MI\, 48104
CATEGORIES:Meetings
END:VEVENT
BEGIN:VEVENT
DTSTART;TZID=America/Detroit:20270604T173000
DTEND;TZID=America/Detroit:20270604T183000
DTSTAMP:20260421T081025
CREATED:20240709T235825Z
LAST-MODIFIED:20240709T235825Z
UID:10021047-1812130200-1812133800@www.a2oa.org
SUMMARY:Meditation Circle
DESCRIPTION:Download the meeting format PDF
URL:https://www.a2oa.org/event/meditation-circle/2027-06-04/
LOCATION:Friends Meeting House\, 1420 Hill St.\, Ann Arbor\, MI\, 48104
CATEGORIES:Meetings
END:VEVENT
BEGIN:VEVENT
DTSTART;TZID=America/Detroit:20270611T173000
DTEND;TZID=America/Detroit:20270611T183000
DTSTAMP:20260421T081025
CREATED:20240709T235825Z
LAST-MODIFIED:20240709T235825Z
UID:10021048-1812735000-1812738600@www.a2oa.org
SUMMARY:Meditation Circle
DESCRIPTION:Download the meeting format PDF
URL:https://www.a2oa.org/event/meditation-circle/2027-06-11/
LOCATION:Friends Meeting House\, 1420 Hill St.\, Ann Arbor\, MI\, 48104
CATEGORIES:Meetings
END:VEVENT
BEGIN:VEVENT
DTSTART;TZID=America/Detroit:20270618T173000
DTEND;TZID=America/Detroit:20270618T183000
DTSTAMP:20260421T081025
CREATED:20240709T235825Z
LAST-MODIFIED:20240709T235825Z
UID:10021049-1813339800-1813343400@www.a2oa.org
SUMMARY:Meditation Circle
DESCRIPTION:Download the meeting format PDF
URL:https://www.a2oa.org/event/meditation-circle/2027-06-18/
LOCATION:Friends Meeting House\, 1420 Hill St.\, Ann Arbor\, MI\, 48104
CATEGORIES:Meetings
END:VEVENT
BEGIN:VEVENT
DTSTART;TZID=America/Detroit:20270625T173000
DTEND;TZID=America/Detroit:20270625T183000
DTSTAMP:20260421T081025
CREATED:20240709T235825Z
LAST-MODIFIED:20240709T235825Z
UID:10021050-1813944600-1813948200@www.a2oa.org
SUMMARY:Meditation Circle
DESCRIPTION:Download the meeting format PDF
URL:https://www.a2oa.org/event/meditation-circle/2027-06-25/
LOCATION:Friends Meeting House\, 1420 Hill St.\, Ann Arbor\, MI\, 48104
CATEGORIES:Meetings
END:VEVENT
BEGIN:VEVENT
DTSTART;TZID=America/Detroit:20270702T173000
DTEND;TZID=America/Detroit:20270702T183000
DTSTAMP:20260421T081025
CREATED:20240709T235825Z
LAST-MODIFIED:20240709T235825Z
UID:10021051-1814549400-1814553000@www.a2oa.org
SUMMARY:Meditation Circle
DESCRIPTION:Download the meeting format PDF
URL:https://www.a2oa.org/event/meditation-circle/2027-07-02/
LOCATION:Friends Meeting House\, 1420 Hill St.\, Ann Arbor\, MI\, 48104
CATEGORIES:Meetings
END:VEVENT
BEGIN:VEVENT
DTSTART;TZID=America/Detroit:20270709T173000
DTEND;TZID=America/Detroit:20270709T183000
DTSTAMP:20260421T081025
CREATED:20240709T235825Z
LAST-MODIFIED:20240709T235825Z
UID:10021052-1815154200-1815157800@www.a2oa.org
SUMMARY:Meditation Circle
DESCRIPTION:Download the meeting format PDF
URL:https://www.a2oa.org/event/meditation-circle/2027-07-09/
LOCATION:Friends Meeting House\, 1420 Hill St.\, Ann Arbor\, MI\, 48104
CATEGORIES:Meetings
END:VEVENT
BEGIN:VEVENT
DTSTART;TZID=America/Detroit:20270716T173000
DTEND;TZID=America/Detroit:20270716T183000
DTSTAMP:20260421T081025
CREATED:20240709T235825Z
LAST-MODIFIED:20240709T235825Z
UID:10021053-1815759000-1815762600@www.a2oa.org
SUMMARY:Meditation Circle
DESCRIPTION:Download the meeting format PDF
URL:https://www.a2oa.org/event/meditation-circle/2027-07-16/
LOCATION:Friends Meeting House\, 1420 Hill St.\, Ann Arbor\, MI\, 48104
CATEGORIES:Meetings
END:VEVENT
BEGIN:VEVENT
DTSTART;TZID=America/Detroit:20270723T173000
DTEND;TZID=America/Detroit:20270723T183000
DTSTAMP:20260421T081025
CREATED:20240709T235825Z
LAST-MODIFIED:20240709T235825Z
UID:10021054-1816363800-1816367400@www.a2oa.org
SUMMARY:Meditation Circle
DESCRIPTION:Download the meeting format PDF
URL:https://www.a2oa.org/event/meditation-circle/2027-07-23/
LOCATION:Friends Meeting House\, 1420 Hill St.\, Ann Arbor\, MI\, 48104
CATEGORIES:Meetings
END:VEVENT
BEGIN:VEVENT
DTSTART;TZID=America/Detroit:20270730T173000
DTEND;TZID=America/Detroit:20270730T183000
DTSTAMP:20260421T081025
CREATED:20240709T235825Z
LAST-MODIFIED:20240709T235825Z
UID:10021055-1816968600-1816972200@www.a2oa.org
SUMMARY:Meditation Circle
DESCRIPTION:Download the meeting format PDF
URL:https://www.a2oa.org/event/meditation-circle/2027-07-30/
LOCATION:Friends Meeting House\, 1420 Hill St.\, Ann Arbor\, MI\, 48104
CATEGORIES:Meetings
END:VEVENT
BEGIN:VEVENT
DTSTART;TZID=America/Detroit:20270806T173000
DTEND;TZID=America/Detroit:20270806T183000
DTSTAMP:20260421T081025
CREATED:20240709T235825Z
LAST-MODIFIED:20240709T235825Z
UID:10021056-1817573400-1817577000@www.a2oa.org
SUMMARY:Meditation Circle
DESCRIPTION:Download the meeting format PDF
URL:https://www.a2oa.org/event/meditation-circle/2027-08-06/
LOCATION:Friends Meeting House\, 1420 Hill St.\, Ann Arbor\, MI\, 48104
CATEGORIES:Meetings
END:VEVENT
BEGIN:VEVENT
DTSTART;TZID=America/Detroit:20270813T173000
DTEND;TZID=America/Detroit:20270813T183000
DTSTAMP:20260421T081025
CREATED:20240709T235825Z
LAST-MODIFIED:20240709T235825Z
UID:10021057-1818178200-1818181800@www.a2oa.org
SUMMARY:Meditation Circle
DESCRIPTION:Download the meeting format PDF
URL:https://www.a2oa.org/event/meditation-circle/2027-08-13/
LOCATION:Friends Meeting House\, 1420 Hill St.\, Ann Arbor\, MI\, 48104
CATEGORIES:Meetings
END:VEVENT
BEGIN:VEVENT
DTSTART;TZID=America/Detroit:20270820T173000
DTEND;TZID=America/Detroit:20270820T183000
DTSTAMP:20260421T081025
CREATED:20240709T235825Z
LAST-MODIFIED:20240709T235825Z
UID:10021058-1818783000-1818786600@www.a2oa.org
SUMMARY:Meditation Circle
DESCRIPTION:Download the meeting format PDF
URL:https://www.a2oa.org/event/meditation-circle/2027-08-20/
LOCATION:Friends Meeting House\, 1420 Hill St.\, Ann Arbor\, MI\, 48104
CATEGORIES:Meetings
END:VEVENT
END:VCALENDAR