BEGIN:VCALENDAR
VERSION:2.0
PRODID:-//Greater Ann Arbor Area Overeaters Anonymous - ECPv6.15.18//NONSGML v1.0//EN
CALSCALE:GREGORIAN
METHOD:PUBLISH
X-ORIGINAL-URL:https://www.a2oa.org
X-WR-CALDESC:Events for Greater Ann Arbor Area Overeaters Anonymous
REFRESH-INTERVAL;VALUE=DURATION:PT1H
X-Robots-Tag:noindex
X-PUBLISHED-TTL:PT1H
BEGIN:VTIMEZONE
TZID:America/Detroit
BEGIN:DAYLIGHT
TZOFFSETFROM:-0500
TZOFFSETTO:-0400
TZNAME:EDT
DTSTART:20250309T070000
END:DAYLIGHT
BEGIN:STANDARD
TZOFFSETFROM:-0400
TZOFFSETTO:-0500
TZNAME:EST
DTSTART:20251102T060000
END:STANDARD
BEGIN:DAYLIGHT
TZOFFSETFROM:-0500
TZOFFSETTO:-0400
TZNAME:EDT
DTSTART:20260308T070000
END:DAYLIGHT
BEGIN:STANDARD
TZOFFSETFROM:-0400
TZOFFSETTO:-0500
TZNAME:EST
DTSTART:20261101T060000
END:STANDARD
BEGIN:DAYLIGHT
TZOFFSETFROM:-0500
TZOFFSETTO:-0400
TZNAME:EDT
DTSTART:20270314T070000
END:DAYLIGHT
BEGIN:STANDARD
TZOFFSETFROM:-0400
TZOFFSETTO:-0500
TZNAME:EST
DTSTART:20271107T060000
END:STANDARD
BEGIN:DAYLIGHT
TZOFFSETFROM:-0500
TZOFFSETTO:-0400
TZNAME:EDT
DTSTART:20280312T070000
END:DAYLIGHT
BEGIN:STANDARD
TZOFFSETFROM:-0400
TZOFFSETTO:-0500
TZNAME:EST
DTSTART:20281105T060000
END:STANDARD
END:VTIMEZONE
BEGIN:VEVENT
DTSTART;TZID=America/Detroit:20260915T190000
DTEND;TZID=America/Detroit:20260915T190000
DTSTAMP:20260425T102238
CREATED:20250206T014122Z
LAST-MODIFIED:20250206T014137Z
UID:10022956-1789498800-1789498800@www.a2oa.org
SUMMARY:East Lansing Big Book\, Steps and Traditions **HYBRID Meeting**
DESCRIPTION:
URL:https://www.a2oa.org/event/east-lansing-big-book-steps-and-traditions/2026-09-15/
LOCATION:University Lutheran Church\, 1020 S Harrison Rd\, East Lansing\, MI\, 48823
CATEGORIES:Meetings
END:VEVENT
BEGIN:VEVENT
DTSTART;TZID=America/Detroit:20260922T190000
DTEND;TZID=America/Detroit:20260922T190000
DTSTAMP:20260425T102238
CREATED:20250206T014122Z
LAST-MODIFIED:20250206T014137Z
UID:10022957-1790103600-1790103600@www.a2oa.org
SUMMARY:East Lansing Big Book\, Steps and Traditions **HYBRID Meeting**
DESCRIPTION:
URL:https://www.a2oa.org/event/east-lansing-big-book-steps-and-traditions/2026-09-22/
LOCATION:University Lutheran Church\, 1020 S Harrison Rd\, East Lansing\, MI\, 48823
CATEGORIES:Meetings
END:VEVENT
BEGIN:VEVENT
DTSTART;TZID=America/Detroit:20260929T190000
DTEND;TZID=America/Detroit:20260929T190000
DTSTAMP:20260425T102238
CREATED:20250206T014122Z
LAST-MODIFIED:20250206T014137Z
UID:10022958-1790708400-1790708400@www.a2oa.org
SUMMARY:East Lansing Big Book\, Steps and Traditions **HYBRID Meeting**
DESCRIPTION:
URL:https://www.a2oa.org/event/east-lansing-big-book-steps-and-traditions/2026-09-29/
LOCATION:University Lutheran Church\, 1020 S Harrison Rd\, East Lansing\, MI\, 48823
CATEGORIES:Meetings
END:VEVENT
BEGIN:VEVENT
DTSTART;TZID=America/Detroit:20261006T190000
DTEND;TZID=America/Detroit:20261006T190000
DTSTAMP:20260425T102238
CREATED:20250206T014122Z
LAST-MODIFIED:20250206T014137Z
UID:10022959-1791313200-1791313200@www.a2oa.org
SUMMARY:East Lansing Big Book\, Steps and Traditions **HYBRID Meeting**
DESCRIPTION:
URL:https://www.a2oa.org/event/east-lansing-big-book-steps-and-traditions/2026-10-06/
LOCATION:University Lutheran Church\, 1020 S Harrison Rd\, East Lansing\, MI\, 48823
CATEGORIES:Meetings
END:VEVENT
BEGIN:VEVENT
DTSTART;TZID=America/Detroit:20261013T190000
DTEND;TZID=America/Detroit:20261013T190000
DTSTAMP:20260425T102238
CREATED:20250206T014122Z
LAST-MODIFIED:20250206T014137Z
UID:10022960-1791918000-1791918000@www.a2oa.org
SUMMARY:East Lansing Big Book\, Steps and Traditions **HYBRID Meeting**
DESCRIPTION:
URL:https://www.a2oa.org/event/east-lansing-big-book-steps-and-traditions/2026-10-13/
LOCATION:University Lutheran Church\, 1020 S Harrison Rd\, East Lansing\, MI\, 48823
CATEGORIES:Meetings
END:VEVENT
BEGIN:VEVENT
DTSTART;TZID=America/Detroit:20261020T190000
DTEND;TZID=America/Detroit:20261020T190000
DTSTAMP:20260425T102238
CREATED:20250206T014122Z
LAST-MODIFIED:20250206T014137Z
UID:10022961-1792522800-1792522800@www.a2oa.org
SUMMARY:East Lansing Big Book\, Steps and Traditions **HYBRID Meeting**
DESCRIPTION:
URL:https://www.a2oa.org/event/east-lansing-big-book-steps-and-traditions/2026-10-20/
LOCATION:University Lutheran Church\, 1020 S Harrison Rd\, East Lansing\, MI\, 48823
CATEGORIES:Meetings
END:VEVENT
BEGIN:VEVENT
DTSTART;TZID=America/Detroit:20261027T190000
DTEND;TZID=America/Detroit:20261027T190000
DTSTAMP:20260425T102238
CREATED:20250206T014122Z
LAST-MODIFIED:20250206T014137Z
UID:10022962-1793127600-1793127600@www.a2oa.org
SUMMARY:East Lansing Big Book\, Steps and Traditions **HYBRID Meeting**
DESCRIPTION:
URL:https://www.a2oa.org/event/east-lansing-big-book-steps-and-traditions/2026-10-27/
LOCATION:University Lutheran Church\, 1020 S Harrison Rd\, East Lansing\, MI\, 48823
CATEGORIES:Meetings
END:VEVENT
BEGIN:VEVENT
DTSTART;TZID=America/Detroit:20261103T190000
DTEND;TZID=America/Detroit:20261103T190000
DTSTAMP:20260425T102238
CREATED:20250206T014122Z
LAST-MODIFIED:20250206T014137Z
UID:10022963-1793732400-1793732400@www.a2oa.org
SUMMARY:East Lansing Big Book\, Steps and Traditions **HYBRID Meeting**
DESCRIPTION:
URL:https://www.a2oa.org/event/east-lansing-big-book-steps-and-traditions/2026-11-03/
LOCATION:University Lutheran Church\, 1020 S Harrison Rd\, East Lansing\, MI\, 48823
CATEGORIES:Meetings
END:VEVENT
BEGIN:VEVENT
DTSTART;TZID=America/Detroit:20261110T190000
DTEND;TZID=America/Detroit:20261110T190000
DTSTAMP:20260425T102238
CREATED:20250206T014122Z
LAST-MODIFIED:20250206T014137Z
UID:10022964-1794337200-1794337200@www.a2oa.org
SUMMARY:East Lansing Big Book\, Steps and Traditions **HYBRID Meeting**
DESCRIPTION:
URL:https://www.a2oa.org/event/east-lansing-big-book-steps-and-traditions/2026-11-10/
LOCATION:University Lutheran Church\, 1020 S Harrison Rd\, East Lansing\, MI\, 48823
CATEGORIES:Meetings
END:VEVENT
BEGIN:VEVENT
DTSTART;TZID=America/Detroit:20261117T190000
DTEND;TZID=America/Detroit:20261117T190000
DTSTAMP:20260425T102238
CREATED:20250206T014122Z
LAST-MODIFIED:20250206T014137Z
UID:10022965-1794942000-1794942000@www.a2oa.org
SUMMARY:East Lansing Big Book\, Steps and Traditions **HYBRID Meeting**
DESCRIPTION:
URL:https://www.a2oa.org/event/east-lansing-big-book-steps-and-traditions/2026-11-17/
LOCATION:University Lutheran Church\, 1020 S Harrison Rd\, East Lansing\, MI\, 48823
CATEGORIES:Meetings
END:VEVENT
BEGIN:VEVENT
DTSTART;TZID=America/Detroit:20261124T190000
DTEND;TZID=America/Detroit:20261124T190000
DTSTAMP:20260425T102238
CREATED:20250206T014122Z
LAST-MODIFIED:20250206T014137Z
UID:10022966-1795546800-1795546800@www.a2oa.org
SUMMARY:East Lansing Big Book\, Steps and Traditions **HYBRID Meeting**
DESCRIPTION:
URL:https://www.a2oa.org/event/east-lansing-big-book-steps-and-traditions/2026-11-24/
LOCATION:University Lutheran Church\, 1020 S Harrison Rd\, East Lansing\, MI\, 48823
CATEGORIES:Meetings
END:VEVENT
BEGIN:VEVENT
DTSTART;TZID=America/Detroit:20261201T190000
DTEND;TZID=America/Detroit:20261201T190000
DTSTAMP:20260425T102238
CREATED:20250206T014122Z
LAST-MODIFIED:20250206T014137Z
UID:10022967-1796151600-1796151600@www.a2oa.org
SUMMARY:East Lansing Big Book\, Steps and Traditions **HYBRID Meeting**
DESCRIPTION:
URL:https://www.a2oa.org/event/east-lansing-big-book-steps-and-traditions/2026-12-01/
LOCATION:University Lutheran Church\, 1020 S Harrison Rd\, East Lansing\, MI\, 48823
CATEGORIES:Meetings
END:VEVENT
BEGIN:VEVENT
DTSTART;TZID=America/Detroit:20261208T190000
DTEND;TZID=America/Detroit:20261208T190000
DTSTAMP:20260425T102238
CREATED:20250206T014122Z
LAST-MODIFIED:20250206T014137Z
UID:10022968-1796756400-1796756400@www.a2oa.org
SUMMARY:East Lansing Big Book\, Steps and Traditions **HYBRID Meeting**
DESCRIPTION:
URL:https://www.a2oa.org/event/east-lansing-big-book-steps-and-traditions/2026-12-08/
LOCATION:University Lutheran Church\, 1020 S Harrison Rd\, East Lansing\, MI\, 48823
CATEGORIES:Meetings
END:VEVENT
BEGIN:VEVENT
DTSTART;TZID=America/Detroit:20261215T190000
DTEND;TZID=America/Detroit:20261215T190000
DTSTAMP:20260425T102238
CREATED:20250206T014122Z
LAST-MODIFIED:20250206T014137Z
UID:10022969-1797361200-1797361200@www.a2oa.org
SUMMARY:East Lansing Big Book\, Steps and Traditions **HYBRID Meeting**
DESCRIPTION:
URL:https://www.a2oa.org/event/east-lansing-big-book-steps-and-traditions/2026-12-15/
LOCATION:University Lutheran Church\, 1020 S Harrison Rd\, East Lansing\, MI\, 48823
CATEGORIES:Meetings
END:VEVENT
BEGIN:VEVENT
DTSTART;TZID=America/Detroit:20261222T190000
DTEND;TZID=America/Detroit:20261222T190000
DTSTAMP:20260425T102238
CREATED:20250206T014122Z
LAST-MODIFIED:20250206T014137Z
UID:10022970-1797966000-1797966000@www.a2oa.org
SUMMARY:East Lansing Big Book\, Steps and Traditions **HYBRID Meeting**
DESCRIPTION:
URL:https://www.a2oa.org/event/east-lansing-big-book-steps-and-traditions/2026-12-22/
LOCATION:University Lutheran Church\, 1020 S Harrison Rd\, East Lansing\, MI\, 48823
CATEGORIES:Meetings
END:VEVENT
BEGIN:VEVENT
DTSTART;TZID=America/Detroit:20261229T190000
DTEND;TZID=America/Detroit:20261229T190000
DTSTAMP:20260425T102238
CREATED:20250206T014122Z
LAST-MODIFIED:20250206T014137Z
UID:10022971-1798570800-1798570800@www.a2oa.org
SUMMARY:East Lansing Big Book\, Steps and Traditions **HYBRID Meeting**
DESCRIPTION:
URL:https://www.a2oa.org/event/east-lansing-big-book-steps-and-traditions/2026-12-29/
LOCATION:University Lutheran Church\, 1020 S Harrison Rd\, East Lansing\, MI\, 48823
CATEGORIES:Meetings
END:VEVENT
BEGIN:VEVENT
DTSTART;TZID=America/Detroit:20270105T190000
DTEND;TZID=America/Detroit:20270105T190000
DTSTAMP:20260425T102238
CREATED:20250206T014122Z
LAST-MODIFIED:20250206T014137Z
UID:10022972-1799175600-1799175600@www.a2oa.org
SUMMARY:East Lansing Big Book\, Steps and Traditions **HYBRID Meeting**
DESCRIPTION:
URL:https://www.a2oa.org/event/east-lansing-big-book-steps-and-traditions/2027-01-05/
LOCATION:University Lutheran Church\, 1020 S Harrison Rd\, East Lansing\, MI\, 48823
CATEGORIES:Meetings
END:VEVENT
BEGIN:VEVENT
DTSTART;TZID=America/Detroit:20270112T190000
DTEND;TZID=America/Detroit:20270112T190000
DTSTAMP:20260425T102238
CREATED:20250206T014122Z
LAST-MODIFIED:20250206T014137Z
UID:10022973-1799780400-1799780400@www.a2oa.org
SUMMARY:East Lansing Big Book\, Steps and Traditions **HYBRID Meeting**
DESCRIPTION:
URL:https://www.a2oa.org/event/east-lansing-big-book-steps-and-traditions/2027-01-12/
LOCATION:University Lutheran Church\, 1020 S Harrison Rd\, East Lansing\, MI\, 48823
CATEGORIES:Meetings
END:VEVENT
BEGIN:VEVENT
DTSTART;TZID=America/Detroit:20270119T190000
DTEND;TZID=America/Detroit:20270119T190000
DTSTAMP:20260425T102238
CREATED:20250206T014122Z
LAST-MODIFIED:20250206T014137Z
UID:10022974-1800385200-1800385200@www.a2oa.org
SUMMARY:East Lansing Big Book\, Steps and Traditions **HYBRID Meeting**
DESCRIPTION:
URL:https://www.a2oa.org/event/east-lansing-big-book-steps-and-traditions/2027-01-19/
LOCATION:University Lutheran Church\, 1020 S Harrison Rd\, East Lansing\, MI\, 48823
CATEGORIES:Meetings
END:VEVENT
BEGIN:VEVENT
DTSTART;TZID=America/Detroit:20270126T190000
DTEND;TZID=America/Detroit:20270126T190000
DTSTAMP:20260425T102238
CREATED:20250206T014122Z
LAST-MODIFIED:20250206T014137Z
UID:10022975-1800990000-1800990000@www.a2oa.org
SUMMARY:East Lansing Big Book\, Steps and Traditions **HYBRID Meeting**
DESCRIPTION:
URL:https://www.a2oa.org/event/east-lansing-big-book-steps-and-traditions/2027-01-26/
LOCATION:University Lutheran Church\, 1020 S Harrison Rd\, East Lansing\, MI\, 48823
CATEGORIES:Meetings
END:VEVENT
BEGIN:VEVENT
DTSTART;TZID=America/Detroit:20270202T190000
DTEND;TZID=America/Detroit:20270202T190000
DTSTAMP:20260425T102238
CREATED:20250206T014122Z
LAST-MODIFIED:20250206T014137Z
UID:10022976-1801594800-1801594800@www.a2oa.org
SUMMARY:East Lansing Big Book\, Steps and Traditions **HYBRID Meeting**
DESCRIPTION:
URL:https://www.a2oa.org/event/east-lansing-big-book-steps-and-traditions/2027-02-02/
LOCATION:University Lutheran Church\, 1020 S Harrison Rd\, East Lansing\, MI\, 48823
CATEGORIES:Meetings
END:VEVENT
BEGIN:VEVENT
DTSTART;TZID=America/Detroit:20270209T190000
DTEND;TZID=America/Detroit:20270209T190000
DTSTAMP:20260425T102238
CREATED:20250206T014122Z
LAST-MODIFIED:20250206T014137Z
UID:10022977-1802199600-1802199600@www.a2oa.org
SUMMARY:East Lansing Big Book\, Steps and Traditions **HYBRID Meeting**
DESCRIPTION:
URL:https://www.a2oa.org/event/east-lansing-big-book-steps-and-traditions/2027-02-09/
LOCATION:University Lutheran Church\, 1020 S Harrison Rd\, East Lansing\, MI\, 48823
CATEGORIES:Meetings
END:VEVENT
BEGIN:VEVENT
DTSTART;TZID=America/Detroit:20270216T190000
DTEND;TZID=America/Detroit:20270216T190000
DTSTAMP:20260425T102238
CREATED:20250206T014122Z
LAST-MODIFIED:20250206T014137Z
UID:10022978-1802804400-1802804400@www.a2oa.org
SUMMARY:East Lansing Big Book\, Steps and Traditions **HYBRID Meeting**
DESCRIPTION:
URL:https://www.a2oa.org/event/east-lansing-big-book-steps-and-traditions/2027-02-16/
LOCATION:University Lutheran Church\, 1020 S Harrison Rd\, East Lansing\, MI\, 48823
CATEGORIES:Meetings
END:VEVENT
BEGIN:VEVENT
DTSTART;TZID=America/Detroit:20270223T190000
DTEND;TZID=America/Detroit:20270223T190000
DTSTAMP:20260425T102238
CREATED:20250206T014122Z
LAST-MODIFIED:20250206T014137Z
UID:10022979-1803409200-1803409200@www.a2oa.org
SUMMARY:East Lansing Big Book\, Steps and Traditions **HYBRID Meeting**
DESCRIPTION:
URL:https://www.a2oa.org/event/east-lansing-big-book-steps-and-traditions/2027-02-23/
LOCATION:University Lutheran Church\, 1020 S Harrison Rd\, East Lansing\, MI\, 48823
CATEGORIES:Meetings
END:VEVENT
BEGIN:VEVENT
DTSTART;TZID=America/Detroit:20270302T190000
DTEND;TZID=America/Detroit:20270302T190000
DTSTAMP:20260425T102238
CREATED:20250206T014122Z
LAST-MODIFIED:20250206T014137Z
UID:10022980-1804014000-1804014000@www.a2oa.org
SUMMARY:East Lansing Big Book\, Steps and Traditions **HYBRID Meeting**
DESCRIPTION:
URL:https://www.a2oa.org/event/east-lansing-big-book-steps-and-traditions/2027-03-02/
LOCATION:University Lutheran Church\, 1020 S Harrison Rd\, East Lansing\, MI\, 48823
CATEGORIES:Meetings
END:VEVENT
BEGIN:VEVENT
DTSTART;TZID=America/Detroit:20270309T190000
DTEND;TZID=America/Detroit:20270309T190000
DTSTAMP:20260425T102238
CREATED:20250206T014122Z
LAST-MODIFIED:20250206T014137Z
UID:10022981-1804618800-1804618800@www.a2oa.org
SUMMARY:East Lansing Big Book\, Steps and Traditions **HYBRID Meeting**
DESCRIPTION:
URL:https://www.a2oa.org/event/east-lansing-big-book-steps-and-traditions/2027-03-09/
LOCATION:University Lutheran Church\, 1020 S Harrison Rd\, East Lansing\, MI\, 48823
CATEGORIES:Meetings
END:VEVENT
BEGIN:VEVENT
DTSTART;TZID=America/Detroit:20270316T190000
DTEND;TZID=America/Detroit:20270316T190000
DTSTAMP:20260425T102238
CREATED:20250206T014122Z
LAST-MODIFIED:20250206T014137Z
UID:10022982-1805223600-1805223600@www.a2oa.org
SUMMARY:East Lansing Big Book\, Steps and Traditions **HYBRID Meeting**
DESCRIPTION:
URL:https://www.a2oa.org/event/east-lansing-big-book-steps-and-traditions/2027-03-16/
LOCATION:University Lutheran Church\, 1020 S Harrison Rd\, East Lansing\, MI\, 48823
CATEGORIES:Meetings
END:VEVENT
BEGIN:VEVENT
DTSTART;TZID=America/Detroit:20270323T190000
DTEND;TZID=America/Detroit:20270323T190000
DTSTAMP:20260425T102238
CREATED:20250206T014122Z
LAST-MODIFIED:20250206T014137Z
UID:10022983-1805828400-1805828400@www.a2oa.org
SUMMARY:East Lansing Big Book\, Steps and Traditions **HYBRID Meeting**
DESCRIPTION:
URL:https://www.a2oa.org/event/east-lansing-big-book-steps-and-traditions/2027-03-23/
LOCATION:University Lutheran Church\, 1020 S Harrison Rd\, East Lansing\, MI\, 48823
CATEGORIES:Meetings
END:VEVENT
BEGIN:VEVENT
DTSTART;TZID=America/Detroit:20270330T190000
DTEND;TZID=America/Detroit:20270330T190000
DTSTAMP:20260425T102238
CREATED:20250206T014122Z
LAST-MODIFIED:20250206T014137Z
UID:10022984-1806433200-1806433200@www.a2oa.org
SUMMARY:East Lansing Big Book\, Steps and Traditions **HYBRID Meeting**
DESCRIPTION:
URL:https://www.a2oa.org/event/east-lansing-big-book-steps-and-traditions/2027-03-30/
LOCATION:University Lutheran Church\, 1020 S Harrison Rd\, East Lansing\, MI\, 48823
CATEGORIES:Meetings
END:VEVENT
BEGIN:VEVENT
DTSTART;TZID=America/Detroit:20270406T190000
DTEND;TZID=America/Detroit:20270406T190000
DTSTAMP:20260425T102238
CREATED:20250206T014122Z
LAST-MODIFIED:20250206T014137Z
UID:10022985-1807038000-1807038000@www.a2oa.org
SUMMARY:East Lansing Big Book\, Steps and Traditions **HYBRID Meeting**
DESCRIPTION:
URL:https://www.a2oa.org/event/east-lansing-big-book-steps-and-traditions/2027-04-06/
LOCATION:University Lutheran Church\, 1020 S Harrison Rd\, East Lansing\, MI\, 48823
CATEGORIES:Meetings
END:VEVENT
END:VCALENDAR